BEGIN:VCALENDAR
VERSION:2.0
PRODID:-//DP Pro Event Calendar//3.2.7//EN
BEGIN:VEVENT
UID:f9cf44d5-f984-49cf-b3ba-62dfe176992b
DTSTART;TZID=America/Phoenix:20211223T173000
DTEND;TZID=America/Phoenix:20211223T173000
DTSTAMP:20211220T214042Z
SUMMARY:ASH/OHSO Collab Tapping Event
DESCRIPTION:\n 5:30 at OHSO Gilbert. Free pint of Cash\, Grass or ASH for ASH members. On outdoor patio\, so dress warmly.\n \n \n \n Five weeks ago the ASH 2021 Board Of Directors collaborated with OHSO Gilbert brewers in support of the ASH\, NAU Brewing Education Scholarship. Together they brewed a Imperial India Pale Lager with Talus hops. It is finally finished and is being launched on today at 5:30pm at the Gilbert OHSO location. For ASH members the first pint is covered by Jon Lane\, OHSO's owner and ASH member. One dollar of every pint will go to ASH to fund our commitment to the Scholarship. The XIPL is titled Cash\, Grass or ASH. Stop by after 5:30 and have a glass. Following COVID protocols is encouraged.Of course\, if you can't make it for this event\, you can still make a point to stop by any of the OHSO locations (they should all get this brew on Thursday or Friday) and support OHSO for supporting ASH and our NAU Brewing Education scholarship fund.\n 
LOCATION:
URL:
END:VEVENT
END:VCALENDAR