BEGIN:VCALENDAR
VERSION:2.0
PRODID:-//DP Pro Event Calendar//3.2.7//EN
BEGIN:VEVENT
UID:1252ab14-ecbd-41e6-be71-db2dc679ee85
DTSTART;TZID=America/Phoenix:20200818T190000
DTEND;TZID=America/Phoenix:20200818T190000
DTSTAMP:20200106T214713Z
SUMMARY:Virtual General Meeting With Eric Salazar
DESCRIPTION:\n  Let's get wild for our August general meeting! Wild ale that is...Please join us on Zoom and meet Eric Salazar\, the man who has established himself as one of the leading authorities and most important voices in American Wild Ale. Salazar was the director of wood aged and sour beer at Other Half Brewing and also spent 24 years at New Belgium Brewing Company. Eric will discuss sour beers and have a Q&amp\;A at the end. \n \n \n \n Join Zoom Meetinghttps://us02web.zoom.us/j/82537658260?pwd=RUthQnpxNk9YZUZQd1huYkthbGV1dz09\n \n \n \n Meeting ID: 825 3765 8260Password: ashOne tap mobile+16699006833\,\,82537658260#\,\,1#\,980974# US (San Jose)+12532158782\,\,82537658260#\,\,1#\,980974# US (Tacoma)\n \n \n \n Dial by your location&nbsp\;&nbsp\;&nbsp\;&nbsp\;&nbsp\;&nbsp\;&nbsp\; +1 669 900 6833 US (San Jose)&nbsp\;&nbsp\;&nbsp\;&nbsp\;&nbsp\;&nbsp\;&nbsp\; +1 253 215 8782 US (Tacoma)&nbsp\;&nbsp\;&nbsp\;&nbsp\;&nbsp\;&nbsp\;&nbsp\; +1 346 248 7799 US (Houston)&nbsp\;&nbsp\;&nbsp\;&nbsp\;&nbsp\;&nbsp\;&nbsp\; +1 929 436 2866 US (New York)&nbsp\;&nbsp\;&nbsp\;&nbsp\;&nbsp\;&nbsp\;&nbsp\; +1 301 715 8592 US (Germantown)&nbsp\;&nbsp\;&nbsp\;&nbsp\;&nbsp\;&nbsp\;&nbsp\; +1 312 626 6799 US (Chicago)Meeting ID: 825 3765 8260Password: 980974\n \n \n \n \n 
LOCATION:
URL:
END:VEVENT
END:VCALENDAR