BEGIN:VCALENDAR
VERSION:2.0
PRODID:-//DP Pro Event Calendar//3.2.7//EN
BEGIN:VEVENT
UID:aed72dc5-c10a-448b-9e33-118599ba6464
DTSTART;TZID=America/Phoenix:20200721T190000
DTEND;TZID=America/Phoenix:20200721T190000
DTSTAMP:20200106T212513Z
SUMMARY:Virtual General Club Meeting
DESCRIPTION:\n July Virtual General Meeting (July 21st @ 7pm)Please join us for our July general meeting\, Tuesday July 21st on Zoom. We will have special guest speaker Dave Clark\, author of the book Phoenix Beer: A History Rising To New Peaks. We will also have special guest Rob Fullmer from the Arizona Craft Brewers Guild to speak about the state of the Arizona craft beer. \n \n \n \n \n \n \n \n Join Zoom Meetinghttps://us02web.zoom.us/j/82537658260?pwd=RUthQnpxNk9YZUZQd1huYkthbGV1dz09\n \n \n \n Meeting ID: 825 3765 8260Password: ashOne tap mobile+16699006833\,\,82537658260#\,\,1#\,980974# US (San Jose)+12532158782\,\,82537658260#\,\,1#\,980974# US (Tacoma)\n \n \n \n Dial by your location&nbsp\;&nbsp\;&nbsp\;&nbsp\;&nbsp\;&nbsp\;&nbsp\; +1 669 900 6833 US (San Jose)&nbsp\;&nbsp\;&nbsp\;&nbsp\;&nbsp\;&nbsp\;&nbsp\; +1 253 215 8782 US (Tacoma)&nbsp\;&nbsp\;&nbsp\;&nbsp\;&nbsp\;&nbsp\;&nbsp\; +1 346 248 7799 US (Houston)&nbsp\;&nbsp\;&nbsp\;&nbsp\;&nbsp\;&nbsp\;&nbsp\; +1 929 436 2866 US (New York)&nbsp\;&nbsp\;&nbsp\;&nbsp\;&nbsp\;&nbsp\;&nbsp\; +1 301 715 8592 US (Germantown)&nbsp\;&nbsp\;&nbsp\;&nbsp\;&nbsp\;&nbsp\;&nbsp\; +1 312 626 6799 US (Chicago)Meeting ID: 825 3765 8260Password: 980974\n 
LOCATION:
URL:
END:VEVENT
END:VCALENDAR