BEGIN:VCALENDAR
VERSION:2.0
PRODID:-//DP Pro Event Calendar//3.2.7//EN
BEGIN:VEVENT
UID:145b029e-528f-4f36-baec-2b336279b9b4
DTSTART;TZID=America/Phoenix:20190806T190000
DTEND;TZID=America/Phoenix:20190806T210000
DTSTAMP:20190613T200242Z
SUMMARY:August Board Meeting
DESCRIPTION:\n \n \n Location TBD\n \n \n This is an open meeting and members may attend to experience a board meeting\, address the board with ideas\, questions\, concerns. Please alert us in advance if you have a topic that needs to be added to the agenda.\n \n \n \n Dynamic Agenda details TBD\n \n \n \n Main topics: Upcoming Events - Fall Festival and Fall Classic\, WinterFest\, The Third Mini-comp\, Calendar Event Planning\, ASH Garage Sale\, Brewouts\n \n \n \n \n 
LOCATION:
URL:
END:VEVENT
END:VCALENDAR