BEGIN:VCALENDAR
VERSION:2.0
PRODID:-//DP Pro Event Calendar//3.2.7//EN
BEGIN:VEVENT
UID:d52e67d6-4877-4bbd-8a79-714a35c0b9e1
DTSTART;TZID=America/Phoenix:20190803T061500
DTEND;TZID=America/Phoenix:20190803T190000
DTSTAMP:20190613T202631Z
SUMMARY:Flagstaff Bus Trip 2019
DESCRIPTION:\n ASH FlagBus is On!\n \n \n \n \n \n \n \n We’ve had many requests for this one.&nbsp\; When we’re getting nuked in the valley\, it’s\n time to head to the hills\, on the best ride of the year.&nbsp\; This Year\, we are also including two\n complimentary pints during the tour.\n \n \n \n This Year’s details:\n \n \n \n Pickup Locations:&nbsp\;&nbsp\;&nbsp\;&nbsp\;&nbsp\;&nbsp\;&nbsp\;&nbsp\;&nbsp\;&nbsp\;&nbsp\;&nbsp\; Hungry\n Monk and Black Canyon Brewing.\n \n \n \n Cost:&nbsp\;&nbsp\;&nbsp\;&nbsp\;&nbsp\;&nbsp\;&nbsp\;&nbsp\;&nbsp\;&nbsp\;&nbsp\;&nbsp\;&nbsp\;&nbsp\;&nbsp\;&nbsp\;&nbsp\;&nbsp\;&nbsp\;&nbsp\;&nbsp\;&nbsp\;&nbsp\;&nbsp\;&nbsp\;&nbsp\;&nbsp\;&nbsp\;&nbsp\;&nbsp\;&nbsp\;&nbsp\;&nbsp\;&nbsp\;&nbsp\; $50\n / Passenger. \n \n \n \n Who can come:&nbsp\;&nbsp\;&nbsp\;&nbsp\;&nbsp\;&nbsp\;&nbsp\;&nbsp\;&nbsp\;&nbsp\;&nbsp\;&nbsp\;&nbsp\;&nbsp\;&nbsp\; Silver\n Member may bring one paid guest\n \n \n \n &nbsp\;&nbsp\;&nbsp\;&nbsp\;&nbsp\;&nbsp\;&nbsp\;&nbsp\;&nbsp\;&nbsp\;&nbsp\;&nbsp\;&nbsp\;&nbsp\;&nbsp\;&nbsp\;&nbsp\;&nbsp\;&nbsp\;&nbsp\;&nbsp\;&nbsp\;&nbsp\;&nbsp\;&nbsp\;&nbsp\;&nbsp\;&nbsp\;&nbsp\;&nbsp\;&nbsp\;&nbsp\;&nbsp\;&nbsp\;&nbsp\;&nbsp\;&nbsp\;&nbsp\;&nbsp\;&nbsp\;&nbsp\;&nbsp\;&nbsp\;&nbsp\; Gold\n member may bring two paid guests.\n \n \n \n &nbsp\;&nbsp\;&nbsp\;&nbsp\;&nbsp\;&nbsp\;&nbsp\;&nbsp\;&nbsp\;&nbsp\;&nbsp\;&nbsp\;&nbsp\;&nbsp\;&nbsp\;&nbsp\;&nbsp\;&nbsp\;&nbsp\;&nbsp\;&nbsp\;&nbsp\;&nbsp\;&nbsp\;&nbsp\;&nbsp\;&nbsp\;&nbsp\;&nbsp\;&nbsp\;&nbsp\;&nbsp\;&nbsp\;&nbsp\;&nbsp\;&nbsp\;&nbsp\;&nbsp\;&nbsp\;&nbsp\;&nbsp\;&nbsp\;&nbsp\;&nbsp\; Must\n be 21yrs +\n \n \n \n Can Bring:&nbsp\;&nbsp\;&nbsp\;&nbsp\;&nbsp\;&nbsp\;&nbsp\;&nbsp\;&nbsp\;&nbsp\;&nbsp\;&nbsp\;&nbsp\;&nbsp\;&nbsp\;&nbsp\;&nbsp\;&nbsp\;&nbsp\;&nbsp\;&nbsp\;&nbsp\;&nbsp\;&nbsp\;&nbsp\; Beer\n and other Drinks\, snacks.\n \n \n \n How to signup: https://forms.gle/c566mZnas8jiiNMB8\n \n \n \n \n \n \n \n  &nbsp\;&nbsp\;&nbsp\;&nbsp\;&nbsp\;&nbsp\;&nbsp\;&nbsp\;&nbsp\;&nbsp\;&nbsp\;&nbsp\;&nbsp\;&nbsp\;&nbsp\;&nbsp\;&nbsp\;&nbsp\;&nbsp\;&nbsp\; \n \n \n \n Tentative Itinerary:\n \n \n \n \n   Depart\n   \n   Location\n   \n   Travel\n   Time\n   \n   Arrive\n   \n   Location\n   \n   Note\n   \n   7:30\n   \n   Hungry\n   Monk\n   \n   0.75\n   \n   8:15\n   \n   Black\n   Canyon\n   \n   Wheels\n   DOWN at 7:30. Be here shortly after 6. (bring coffee/donuts for idle time\n   wait.)\n   \n   8:30\n   \n   Black\n   Canyon\n   \n   1.5\n   \n   10:00\n   \n   Verde\n   Brewing\n   \n   10:45\n   \n   Verde\n   Brewing\n   \n   1.25\n   \n   12:00\n   \n   Mother\n   Road (Production)\n      Complimentary   Pint \, 50% off Merchandise  and Tours at Mother Road   \n   1:00\n   \n   Mother\n   Road\n   \n   0.25\n   \n   1:15\n   \n   DarkSky/Downtown\n   \n   Hang\n   out at DarkSky / onsite Pizza Or walk downtown area and for alternate eating\n   / sampling adventures.\n   \n   2:45\n   \n   DarkSky/Downtown\n   \n   0.25\n   \n   3:00\n   \n   Historic\n   Brewing\n   \n   A\n   pint included at Historic\n   \n   4:00\n   \n   Historic\n   Brewing\n   \n   2\n   \n   6:00\n   \n   Black\n   Canyon\n   \n   6:10\n   \n   Black\n   Canyon\n   \n   0.75\n   \n   6:55\n   \n   Hungry\n   Monk\n   \n \n \n \n Don't forget to share some love with the Monk\, they like to keep the best for last!  \n 
LOCATION:
URL:
END:VEVENT
END:VCALENDAR