BEGIN:VCALENDAR
VERSION:2.0
PRODID:-//DP Pro Event Calendar//3.2.7//EN
BEGIN:VEVENT
UID:40bdbb81-c6cb-4b40-96ff-753572a612cf
DTSTART;TZID=America/Phoenix:20190702T190000
DTEND;TZID=America/Phoenix:20190702T210000
DTSTAMP:20190613T195936Z
SUMMARY:July Board Meeting
DESCRIPTION:Location TBD\n \n \n This is an open meeting and members may attend to experience a board meeting\, address the board with ideas\, questions\, concerns. Please alert us in advance if you have a topic that needs to be added to the agenda.\n \n \n \n Dynamic Agenda details TBD\n \n \n \n Main topics: Upcoming Events - Fall Festival and Fall Classic\, August Bus Trip\, WinterFest\, The Second Mini-comp\, Calendar Event Planning\, ASH Garage Sale\, Brewouts\n \n \n \n \n 
LOCATION:
URL:
END:VEVENT
END:VCALENDAR